BEGIN:VCALENDAR
VERSION:2.0
PRODID:-//wp-events-plugin.com//7.2.3.1//EN
TZID:America/Chicago
X-WR-TIMEZONE:America/Chicago
BEGIN:VEVENT
UID:7@dallascitynews.net
DTSTART;TZID=America/Chicago:20260122T180000
DTEND;TZID=America/Chicago:20260122T193000
DTSTAMP:20260120T163445Z
URL:https://www.dallascitynews.net/events/support-sleep-with-chamomile
SUMMARY:Support Sleep with Chamomile (Health Through Agriculture Series)
DESCRIPTION:This class will feature chamomile and other North Texas herbs t
 o support sleep! Class participants will learn how to care for the garden 
 during cold temperatures\, grow chamomile\, and we will make a soothing te
 a together. All supplies will be provided.\n\nThe Growing Wellness: Health
  through Agriculture Series is an OEQS education and training series aroun
 d native Texas herbal remedies to be made and grown in one’s own space.\
 n\n🔗 Register Today: dal.city/GrowingWellness\n\n\n\n\nManzanilla Para
  Un Mejor Descanso\nEsta clase destacara la manzanilla y otras hierbas del
  norte de Texas conocidas por sus propiedades para favorecer el descanso. 
 Los participantes aprenderan a cuidar el jardin durante las temperaturas f
 rias\, a cultivar manzanilla y ademas\, prepararan juntos una infusion rel
 ajante. Se proporcionan todos los suministros.\n\nLa serie Salud a Través
  de la Agricultura es una serie de talleres educativos de OEQS sobre los r
 emedios naturales con hierbas nativas de Texas que se pueden cultivar en n
 uestro hogar.\n\n🔗 Registrate ahora: dal.city/GrowingWellness
ATTACH;FMTTYPE=image/jpeg:https://i0.wp.com/www.dallascitynews.net/wp-cont
 ent/uploads/2026/01/FINAL_601575_Growing-Wellness-Health-through-Agricultu
 re-Series-Jan-2026_1to1.jpg?fit=1440%2C1440&ssl=1
LOCATION:West Dallas Multipurpose Center\, 2828 Fish Trap Rd.\, Dallas\, Te
 xas\, 75212\, United States
X-APPLE-STRUCTURED-LOCATION;VALUE=URI;X-ADDRESS=2828 Fish Trap Rd.\, Dallas
 \, Texas\, 75212\, United States;X-APPLE-RADIUS=100;X-TITLE=West Dallas Mu
 ltipurpose Center:geo:0,0
END:VEVENT
BEGIN:VTIMEZONE
TZID:America/Chicago
X-LIC-LOCATION:America/Chicago
BEGIN:STANDARD
DTSTART:20251102T010000
TZOFFSETFROM:-0500
TZOFFSETTO:-0600
TZNAME:CST
END:STANDARD
END:VTIMEZONE
END:VCALENDAR