BEGIN:VCALENDAR
VERSION:2.0
PRODID:-//wp-events-plugin.com//7.2.3.1//EN
TZID:America/Chicago
X-WR-TIMEZONE:America/Chicago
BEGIN:VEVENT
UID:6@dallascitynews.net
DTSTART;TZID=America/Chicago:20260122T180000
DTEND;TZID=America/Chicago:20260122T193000
DTSTAMP:20260120T154010Z
URL:https://www.dallascitynews.net/events/jan22-community-engagement-meeti
 ng
SUMMARY:Community Engagement Meeting for HUD Grants: Jan 22 Tele-Town Hall 
 Meeting
DESCRIPTION:The City of Dallas Budget &amp\; Management Services/Grants Adm
 inistration is inviting you to participate in a series of Community Engage
 ment Meetings regarding the U.S. Department of Housing &amp\; Urban Develo
 pment (HUD) Grant Funds.\n\nYour opinion is important to us! We are curren
 tly developing the FY 2026-27 Consolidated Plan Budget\, and we need your 
 feedback to decide which community programs should receive federal funding
 .\n\nWe are seeking public input on funding for:\n\n 	Low-income neighborh
 ood improvements: How can we enhance your neighborhood?\n 	Homebuyers down
  payment assistance: What programs can help you buy your first home?\n 	Yo
 uth &amp\; Senior programming: How can we better support these groups?\n 	
 Homelessness prevention: How can we work together to prevent homelessness?
 \n 	Housing &amp\; support for persons with HIV/AIDS: How can we create a 
 more inclusive community?\n\nThis meeting will be a Tele-Town Hall Meeting
 . Click to register online for the Town Hall.\n\n 	Dial-In (English): (888
 ) 400-1932\n 	Dial-In (Spanish): (888) 400-9342\n\nCan’t Attend? You can
  share your thoughts by completing the survey online. It is available in 
 English\, Spanish\, Vietnamese\, Korean\, Chinese\, and Amharic.\n\nN
 ote: All sessions will have a Spanish translator on site or virtually.\n\n
 Questions? Contact Grants Administration at ofscommunitydevelopment@dalla
 s.gov or call (214) 670-4557.
ATTACH;FMTTYPE=image/jpeg:https://i0.wp.com/www.dallascitynews.net/wp-cont
 ent/uploads/2025/12/Screenshot-2025-12-29-153155.jpg?fit=1305%2C731&ssl=1
END:VEVENT
BEGIN:VTIMEZONE
TZID:America/Chicago
X-LIC-LOCATION:America/Chicago
BEGIN:STANDARD
DTSTART:20251102T010000
TZOFFSETFROM:-0500
TZOFFSETTO:-0600
TZNAME:CST
END:STANDARD
END:VTIMEZONE
END:VCALENDAR