BEGIN:VCALENDAR
VERSION:2.0
PRODID:-//wp-events-plugin.com//7.2.3.1//EN
TZID:America/Chicago
X-WR-TIMEZONE:America/Chicago
BEGIN:VEVENT
UID:2@dallascitynews.net
DTSTART;TZID=America/Chicago:20251209T180000
DTEND;TZID=America/Chicago:20251209T190000
DTSTAMP:20251202T144404Z
URL:https://www.dallascitynews.net/events/immune-support-with-elderberry
SUMMARY:Health Through Agriculture Series: Immune Support with Elderberry
DESCRIPTION:Register now/Regístrate ahora: https://dal.city/GrowingWellnes
 s\n\n\n\nJoin us for our last workshop of the season!\n\nHealth Through Ag
 riculture Series: Immune Support with Elderberry - Dec 9th at 6:00 PM\n\nT
 his class will feature elderberry and its immune-supportive benefits! Part
 icipants will learn how to grow elder trees and how to make elderberry syr
 up.\n\nRSVP is required\, register: https://dal.city/GrowingWellness\n\n\n
 \n¡Acompáñanos en nuestro ultimo taller de la temporada!\n\nSalud a tra
 ves de la agricultura: Refuerza tu sistema inmunológico con baya del saú
 co - 9 de dic\, 6 p.m.\n\niDescubre la baya del saúco y sus increíbles b
 eneficios para fortalecer tu sistema inmunológico! Aprende a cultivar el 
 arbol de saúco y prepara jarabe de baya de saúco con nosotros.\n\nSe req
 uiere confirmación de asistencia. Regístrate ahora: https://dal.city/Gro
 wingWellness\n\n
ATTACH;FMTTYPE=image/jpeg:https://i0.wp.com/www.dallascitynews.net/wp-cont
 ent/uploads/2025/12/elberberry-workshop-ENG.png?fit=1920%2C2484&ssl=1
CATEGORIES:Workshops
LOCATION:West Dallas Multipurpose Center\, 2828 Fish Trap Rd.\, Dallas\, Te
 xas\, 75212\, United States
X-APPLE-STRUCTURED-LOCATION;VALUE=URI;X-ADDRESS=2828 Fish Trap Rd.\, Dallas
 \, Texas\, 75212\, United States;X-APPLE-RADIUS=100;X-TITLE=West Dallas Mu
 ltipurpose Center:geo:0,0
END:VEVENT
BEGIN:VTIMEZONE
TZID:America/Chicago
X-LIC-LOCATION:America/Chicago
BEGIN:STANDARD
DTSTART:20251102T010000
TZOFFSETFROM:-0500
TZOFFSETTO:-0600
TZNAME:CST
END:STANDARD
END:VTIMEZONE
END:VCALENDAR