BEGIN:VCALENDAR
VERSION:2.0
PRODID:-//wp-events-plugin.com//7.2.3.1//EN
TZID:America/Chicago
X-WR-TIMEZONE:America/Chicago
BEGIN:VEVENT
UID:8@dallascitynews.net
DTSTART;TZID=America/Chicago:20260507T180000
DTEND;TZID=America/Chicago:20260507T190000
DTSTAMP:20260424T221205Z
URL:https://www.dallascitynews.net/events/ike-smart-city-phase-iv
SUMMARY:IKE Smart City: Phase IV Community Engagement Session
DESCRIPTION:The City of Dallas is partnering with our vendor\, IKE Smart Ci
 ty\, to bring new digital kiosks to our streets. These kiosks are designed
  to help you navigate the city\, find local businesses\, and access free W
 i-Fi. But before we install them\, we want to hear from you.\n\nJoin us fo
 r a Community Engagement Session to learn about the proposed Phase IV loca
 tions and share your feedback.\n\nAttend in person at the J.Erik Jonsson C
 entral Library Auditorium on the First Floor.\n\nOr attend virtually:\nWeb
 ex Link:\nhttps://dallascityhall.webex.com/dallascityhall/j.php?MTID=m0fc1
 62252ff6c9834559b3b59b570f20\nCall-In: +1-408-418-9388\nAccess Code: 248 5
 30 08341\n\nMeeting ID: 2498 857 4558\nPasscode: DallasCCX\n- 32552722 whe
 n dialing from a phone or video system.\n\nTo request an interpreter\, ple
 ase email: npaolo@obm.com\n\nLet’s work together to build a smarter\, mo
 re accessible and connected Dallas. We hope to see you there!\n\n\n\n\n\nL
 a Ciudad de Dallas se ha asociado con nuestro proveedor\, IKE Smart City\,
  para traer nuevos quioscos digitales a nuestras calles. Estos quioscos es
 tán diseñados para ayudarte a navegar por la ciudad\, encontrar negocios
  locales y acceder a wifi gratuito. Pero antes de instalarlos\, queremos s
 aber tu opinión. \n\nAcompáñenos en una Sesión de Participación Comun
 itaria\, ya sea en persona o en línea\, para conocer las ubicaciones prop
 uestas para la Fase IV y compartir sus comentarios.\n\nAsista en persona e
 n el Auditorio de la Biblioteca Central J. Erik Jonsson\, ubicado en el pr
 imer piso.\n\nO asista de forma virtual:\nEnlace de Webex:\nhttps://dallas
 cityhall.webex.com/dallascityhall/j.php?MTID=m0fc162252ff6c9834559b3b59b57
 0f20\nNúmero de teléfono: +1-408-418-9388\nCódigo de acceso: 248 530 08
 341\n\nID de la reunión: 2498 857 4558\nContraseña: DallasCCX\n- 3255272
 2 al marcar desde un teléfono o sistema de video.\n\nPara solicitar un in
 térprete\, por favor envíe un correo electrónico a npaolo@obm.com\n\nTr
 abajemos juntos para construir una Dallas más inteligente\, accesible y c
 onectada. ¡Esperamos verle allí!
ATTACH;FMTTYPE=image/jpeg:https://i0.wp.com/www.dallascitynews.net/wp-cont
 ent/uploads/2026/04/IKE-Kiosks-ENG-1to1.png?fit=1080%2C1080&ssl=1
CATEGORIES:Community Engagement Session
LOCATION:J.Erik Jonsson Central Library\, 1515 Young Street\, Dallas\, TX\,
  75201\, United States
X-APPLE-STRUCTURED-LOCATION;VALUE=URI;X-ADDRESS=1515 Young Street\, Dallas\
 , TX\, 75201\, United States;X-APPLE-RADIUS=100;X-TITLE=J.Erik Jonsson Cen
 tral Library:geo:0,0
END:VEVENT
BEGIN:VTIMEZONE
TZID:America/Chicago
X-LIC-LOCATION:America/Chicago
BEGIN:DAYLIGHT
DTSTART:20260308T030000
TZOFFSETFROM:-0600
TZOFFSETTO:-0500
TZNAME:CDT
END:DAYLIGHT
END:VTIMEZONE
END:VCALENDAR