BEGIN:VCALENDAR
VERSION:2.0
PRODID:-//wp-events-plugin.com//7.2.3.1//EN
TZID:America/Chicago
X-WR-TIMEZONE:America/Chicago
BEGIN:VEVENT
UID:1@dallascitynews.net
DTSTART;TZID=America/Chicago:20251205T163000
DTEND;TZID=America/Chicago:20251205T193000
DTSTAMP:20251203T161844Z
URL:https://www.dallascitynews.net/events/deck-the-plaza-2025
SUMMARY:Deck the Plaza
DESCRIPTION:✨ Season’s greetings from the City of Dallas! ✨\n\nJoin u
 s for Deck the Plaza\, a free holiday celebration at Dallas City Hall Plaz
 a featuring live music\, kids' activities\, food trucks\, fireworks\, fest
 ive tree lighting\, and more! Bring your family and friends to celebrate t
 his season!\n\nJoin City Manager Kimberly Bizor Tolbert and city council m
 embers to enjoy this holiday season!\n\n🎄 6:45 p.m. TREE LIGHTING\n\n
 🎆 7:15 p.m. FIREWORKS\nDisplayed from Kay Bailey Hutchison Convention C
 enter Arena\n\nDECK THE PLAZA – PERFORMER LINEUP\n5:00 PM – Emcee Amy 
 Bishop\n5:05 PM – Woodrow Wilson High School Marching Band\n5:25 PM – 
 Woodrow Wilson High School “Sweetheart” Dancers\n5:45 PM – The Flame
  Foundation\n6:05 PM – El Trigo Ballet Folklorico\n6:20 PM – Johana\n6
 :30 PM – Ferabah (West African Dance)\n6:45 PM – Emcee Announcement\, 
 Countdown\, and Tree Lighting\n6:50 PM – IDANZ Performing Company\n7:00 
 PM – St. Rita Choir\n\nCan’t make it out? We’ll be streaming live on
  dal.city/CityofDallasYT.\n\n--\n\n\n\n🎄 ¡Felices fiestas de parte de 
 la Ciudad de Dallas!\n\nAcompáñanos en Deck the Plaza\, una celebración
  navideña gratuita en la Plaza del Ayuntamiento de Dallas\, con música e
 n vivo\, actividades para niños\, camiones de comida\, fuegos artificiale
 s\, el encendido festivo del árbol ¡y mucho más! ✨\n\n📅 Viernes 5 
 de diciembre de 2025\n4:30 a 7:30 p.m.\n\n📍 Dallas City Hall Plaza\n150
 0 Marilla St.\, Dallas\, TX 75201\n\n&nbsp\;
ATTACH;FMTTYPE=image/jpeg:https://i0.wp.com/www.dallascitynews.net/wp-cont
 ent/uploads/2025/11/deck-the-halls-2025.jpg?fit=2048%2C2048&ssl=1
LOCATION:Dallas City Hall Plaza\, 1500 Marilla St.\, Dallas\, TX\, 75201\, 
 United States
X-APPLE-STRUCTURED-LOCATION;VALUE=URI;X-ADDRESS=1500 Marilla St.\, Dallas\,
  TX\, 75201\, United States;X-APPLE-RADIUS=100;X-TITLE=Dallas City Hall Pl
 aza:geo:0,0
END:VEVENT
BEGIN:VTIMEZONE
TZID:America/Chicago
X-LIC-LOCATION:America/Chicago
BEGIN:STANDARD
DTSTART:20251102T010000
TZOFFSETFROM:-0500
TZOFFSETTO:-0600
TZNAME:CST
END:STANDARD
END:VTIMEZONE
END:VCALENDAR